BEGIN:VCALENDAR
VERSION:2.0
PRODID:digitalservices.georgia.gov
X-WR-TIMEZONE:America/New_York
BEGIN:VTIMEZONE
TZID:America/New_York
X-LIC-LOCATION:America/New_York
END:VTIMEZONE
BEGIN:VEVENT
UID:6140c15d221b6
DTSTART;TZID=UTC:20211014T170000
SEQUENCE:0
TRANSP:OPAQUE
DTEND;TZID=UTC:20211014T183000
URL:https://digitalservices.georgia.gov/events/2021-10-14/govhub-advanced-t
 raining
SUMMARY:GovHub: Advanced Training
CLASS:PUBLIC
DESCRIPTION:Digital Services Georgia offers regular training on managing co
 ntent on GovHub. All content managers are welcome to sign up for any of th
 ese free trainings when they're available and come as often as needed. \n
 \n\n\nDuring GovHub Advanced Training\, we will cover things like:\n\n\nD
 etailed management of your homepage & landing pages\nDocument usage\nOrgan
 ization (your agency's About Us page) pages and how they feed the footer o
 f your site\nIn-depth training on Listing Pages\nHow to embedded content\n
 \n\n\n\nTraining is offered on a first-come\, first-served basis so be sur
 e to register to reserve your spot. Please attend Basic Training before at
 tending Advanced.
DTSTAMP:20210914T113557Z
END:VEVENT
END:VCALENDAR