BEGIN:VCALENDAR
VERSION:2.0
PRODID:digitalservices.georgia.gov
X-WR-TIMEZONE:America/New_York
BEGIN:VTIMEZONE
TZID:America/New_York
X-LIC-LOCATION:America/New_York
END:VTIMEZONE
BEGIN:VEVENT
UID:6140c1594a11c
DTSTART;TZID=UTC:20210923T170000
SEQUENCE:0
TRANSP:OPAQUE
DTEND;TZID=UTC:20210923T183000
URL:https://digitalservices.georgia.gov/events/2021-09-23/govhub-analytics-
 advanced-training
SUMMARY:GovHub Analytics: Advanced Training
CLASS:PUBLIC
DESCRIPTION:During the advanced training we'll teach you how to: \n\n\ncus
 tomize dashboards\nunderstand accessibility issues\nuse the policy library
 \ngo more in depth with analytics\nmonitor readability\n\n\n\n\nSiteimprov
 e is an online tool available to all agencies using the GovHub platform. T
 he tool helps measure the accuracy of your content by providing broken lin
 k and broken page reports\, accessibility audits\, and help with SEO. You 
 can create sitewide policies to help enforce your agency's style guide. Mo
 st importantly\, you're able to consistently monitor your DCI score\, the
  standard at which the state has set to ensure quality content.
DTSTAMP:20210914T113553Z
END:VEVENT
END:VCALENDAR